BEGIN:VCALENDAR
VERSION:2.0
PRODID:icalendar-ruby
CALSCALE:GREGORIAN
METHOD:PUBLISH
BEGIN:VEVENT
DTSTAMP:20260422T101159Z
UID:5-313030@marcellusunited.tithelysetup2.com
DTSTART:20260531T143000Z
DTEND:20260531T153000Z
CLASS:PUBLIC
CREATED:20260219T135149
DESCRIPTION:Sunday Worship
LAST-MODIFIED:20260219T135149
LOCATION:
SUMMARY:Sunday Worship
URL;VALUE=URI:https://marcellusunited.tithelysetup2.com/events/sunday-worsh
 ip/2026-05-31
END:VEVENT
END:VCALENDAR
